BEGIN:VCALENDAR
VERSION:2.0
PRODID:-//Our Community Our Kids - ECPv6.15.20//NONSGML v1.0//EN
CALSCALE:GREGORIAN
METHOD:PUBLISH
X-ORIGINAL-URL:https://ourcommunity-ourkids.org
X-WR-CALDESC:Events for Our Community Our Kids
REFRESH-INTERVAL;VALUE=DURATION:PT1H
X-Robots-Tag:noindex
X-PUBLISHED-TTL:PT1H
BEGIN:VTIMEZONE
TZID:America/Chicago
BEGIN:DAYLIGHT
TZOFFSETFROM:-0600
TZOFFSETTO:-0500
TZNAME:CDT
DTSTART:20200308T080000
END:DAYLIGHT
BEGIN:STANDARD
TZOFFSETFROM:-0500
TZOFFSETTO:-0600
TZNAME:CST
DTSTART:20201101T070000
END:STANDARD
BEGIN:DAYLIGHT
TZOFFSETFROM:-0600
TZOFFSETTO:-0500
TZNAME:CDT
DTSTART:20210314T080000
END:DAYLIGHT
BEGIN:STANDARD
TZOFFSETFROM:-0500
TZOFFSETTO:-0600
TZNAME:CST
DTSTART:20211107T070000
END:STANDARD
BEGIN:DAYLIGHT
TZOFFSETFROM:-0600
TZOFFSETTO:-0500
TZNAME:CDT
DTSTART:20220313T080000
END:DAYLIGHT
BEGIN:STANDARD
TZOFFSETFROM:-0500
TZOFFSETTO:-0600
TZNAME:CST
DTSTART:20221106T070000
END:STANDARD
END:VTIMEZONE
BEGIN:VEVENT
DTSTART;TZID=America/Chicago:20210311T180000
DTEND;TZID=America/Chicago:20210311T193000
DTSTAMP:20260424T121328
CREATED:20210127T163443Z
LAST-MODIFIED:20210129T141203Z
UID:7858-1615485600-1615491000@ourcommunity-ourkids.org
SUMMARY:Parents Empowering Parents
DESCRIPTION:You are invited to a Zoom meeting. \nCome and get your questions answered!\nThe Parent Collaboration Group\, “PEP” is led by parents like you\, and it’s there to support you. It is not a parenting class.\nTalk with parents who have been through the CPS process about:\n• How long will the process take?\n• Can I visit my child outside of the CPS office\n• What rights do I still have as a parent?\n• Can I speak to anyone above my caseworker? \nRegister in advance for this meeting: \nhttps://zoom.us/meeting/register/tJUpf-GprjwqHN3fB3Qpl1KZcM2AEmkT17Dy \nAfter registering\, you will receive a confirmation email containing information about joining the meeting.
URL:https://ourcommunity-ourkids.org/event/parents-empowering-parents-2/
CATEGORIES:Parents Empowering Parents
END:VEVENT
BEGIN:VEVENT
DTSTART;TZID=America/Chicago:20210211T180000
DTEND;TZID=America/Chicago:20210211T193000
DTSTAMP:20260424T121328
CREATED:20210127T163306Z
LAST-MODIFIED:20210129T141215Z
UID:7856-1613066400-1613071800@ourcommunity-ourkids.org
SUMMARY:Parents Empowering Parents
DESCRIPTION:You are invited to a Zoom meeting. \nCome and get your questions answered!\nThe Parent Collaboration Group\, “PEP” is led by parents like you\, and it’s there to support you. It is not a parenting class.\nTalk with parents who have been through the CPS process about:\n• How long will the process take?\n• Can I visit my child outside of the CPS office\n• What rights do I still have as a parent?\n• Can I speak to anyone above my caseworker? \nRegister in advance for this meeting: \nhttps://zoom.us/meeting/register/tJUpf-GprjwqHN3fB3Qpl1KZcM2AEmkT17Dy \nAfter registering\, you will receive a confirmation email containing information about joining the meeting.
URL:https://ourcommunity-ourkids.org/event/parents-empowering-parents/
CATEGORIES:Parents Empowering Parents
END:VEVENT
END:VCALENDAR