BEGIN:VCALENDAR
VERSION:2.0
PRODID:-//Our Community Our Kids - ECPv6.15.20//NONSGML v1.0//EN
CALSCALE:GREGORIAN
METHOD:PUBLISH
X-WR-CALNAME:Our Community Our Kids
X-ORIGINAL-URL:https://ourcommunity-ourkids.org
X-WR-CALDESC:Events for Our Community Our Kids
REFRESH-INTERVAL;VALUE=DURATION:PT1H
X-Robots-Tag:noindex
X-PUBLISHED-TTL:PT1H
BEGIN:VTIMEZONE
TZID:America/Chicago
BEGIN:DAYLIGHT
TZOFFSETFROM:-0600
TZOFFSETTO:-0500
TZNAME:CDT
DTSTART:20230312T080000
END:DAYLIGHT
BEGIN:STANDARD
TZOFFSETFROM:-0500
TZOFFSETTO:-0600
TZNAME:CST
DTSTART:20231105T070000
END:STANDARD
BEGIN:DAYLIGHT
TZOFFSETFROM:-0600
TZOFFSETTO:-0500
TZNAME:CDT
DTSTART:20240310T080000
END:DAYLIGHT
BEGIN:STANDARD
TZOFFSETFROM:-0500
TZOFFSETTO:-0600
TZNAME:CST
DTSTART:20241103T070000
END:STANDARD
BEGIN:DAYLIGHT
TZOFFSETFROM:-0600
TZOFFSETTO:-0500
TZNAME:CDT
DTSTART:20250309T080000
END:DAYLIGHT
BEGIN:STANDARD
TZOFFSETFROM:-0500
TZOFFSETTO:-0600
TZNAME:CST
DTSTART:20251102T070000
END:STANDARD
BEGIN:DAYLIGHT
TZOFFSETFROM:-0600
TZOFFSETTO:-0500
TZNAME:CDT
DTSTART:20260308T080000
END:DAYLIGHT
BEGIN:STANDARD
TZOFFSETFROM:-0500
TZOFFSETTO:-0600
TZNAME:CST
DTSTART:20261101T070000
END:STANDARD
END:VTIMEZONE
BEGIN:VEVENT
DTSTART;TZID=America/Chicago:20250725T120000
DTEND;TZID=America/Chicago:20250725T130000
DTSTAMP:20260425T105152
CREATED:20250613T141651Z
LAST-MODIFIED:20250627T173521Z
UID:17746-1753444800-1753448400@ourcommunity-ourkids.org
SUMMARY:Foster Care and Adoption 101 Information Meeting
DESCRIPTION:Come learn about our community’s Foster Care and Adoption needs and how you can be a part of changing a child’s life! A general overview of the foster care and adoption process will be presented as well as basic requirements that apply to all agencies. \n\n\n\nClick here to register \nThis meeting will be held virtually via Zoom.
URL:https://ourcommunity-ourkids.org/event/foster-care-and-adoption-101-information-meeting-176/
LOCATION:TX
END:VEVENT
BEGIN:VEVENT
DTSTART;TZID=America/Chicago:20250719T103000
DTEND;TZID=America/Chicago:20250719T113000
DTSTAMP:20260425T105152
CREATED:20250611T135340Z
LAST-MODIFIED:20250611T135340Z
UID:17727-1752921000-1752924600@ourcommunity-ourkids.org
SUMMARY:Heart Gallery of North Texas Foster Care and Adoption 101 Information Meeting
DESCRIPTION:Join the Heart Gallery of North Texas for a free in-person Foster Care and Adoption Information Meeting! \n\n\n\nRSVP at https://forms.office.com/r/hui2YtHJ6c
URL:https://ourcommunity-ourkids.org/event/heart-gallery-of-north-texas-foster-care-and-adoption-101-information-meeting-2/
LOCATION:corsicana library\, Corsicana Library 100 N 12th St\, Corsicana\, TX 75110
END:VEVENT
BEGIN:VEVENT
DTSTART;TZID=America/Chicago:20250701T183000
DTEND;TZID=America/Chicago:20250701T193000
DTSTAMP:20260425T105152
CREATED:20250611T134812Z
LAST-MODIFIED:20250627T173632Z
UID:17725-1751394600-1751398200@ourcommunity-ourkids.org
SUMMARY:Foster Care and Adoption 101 Information Meeting
DESCRIPTION:Come learn about our community’s Foster Care and Adoption needs and how you can be a part of changing a child’s life! A general overview of the foster care and adoption process will be presented as well as basic requirements that apply to all agencies. \n\n\n\nClick here to register \nThis meeting will be held virtually via Zoom.
URL:https://ourcommunity-ourkids.org/event/foster-care-and-adoption-101-information-meeting-175/
LOCATION:TX
END:VEVENT
BEGIN:VEVENT
DTSTART;TZID=America/Chicago:20250617T183000
DTEND;TZID=America/Chicago:20250617T193000
DTSTAMP:20260425T105152
CREATED:20250326T151549Z
LAST-MODIFIED:20250326T151549Z
UID:17392-1750185000-1750188600@ourcommunity-ourkids.org
SUMMARY:Foster Care and Adoption 101 Information Meeting
DESCRIPTION:Come learn about our community’s Foster Care and Adoption needs and how you can be a part of changing a child’s life! A general overview of the foster care and adoption process will be presented as well as basic requirements that apply to all agencies. \n\n\n\nClick here to register \nThis meeting will be held virtually via Zoom.
URL:https://ourcommunity-ourkids.org/event/foster-care-and-adoption-101-information-meeting-174/
LOCATION:TX
END:VEVENT
BEGIN:VEVENT
DTSTART;TZID=America/Chicago:20250602T183000
DTEND;TZID=America/Chicago:20250602T193000
DTSTAMP:20260425T105152
CREATED:20250326T151459Z
LAST-MODIFIED:20250326T151459Z
UID:17390-1748889000-1748892600@ourcommunity-ourkids.org
SUMMARY:Foster Care and Adoption 101 Information Meeting
DESCRIPTION:Come learn about our community’s Foster Care and Adoption needs and how you can be a part of changing a child’s life! A general overview of the foster care and adoption process will be presented as well as basic requirements that apply to all agencies. \n\n\n\nClick here to register \nThis meeting will be held virtually via Zoom.
URL:https://ourcommunity-ourkids.org/event/foster-care-and-adoption-101-information-meeting-173/
LOCATION:TX
END:VEVENT
BEGIN:VEVENT
DTSTART;TZID=America/Chicago:20250530T120000
DTEND;TZID=America/Chicago:20250530T130000
DTSTAMP:20260425T105152
CREATED:20250326T151244Z
LAST-MODIFIED:20250326T151244Z
UID:17386-1748606400-1748610000@ourcommunity-ourkids.org
SUMMARY:Foster Care and Adoption 101 Information Meeting
DESCRIPTION:Come learn about our community’s Foster Care and Adoption needs and how you can be a part of changing a child’s life! A general overview of the foster care and adoption process will be presented as well as basic requirements that apply to all agencies. \n\n\n\nClick here to register \nThis meeting will be held virtually via Zoom.
URL:https://ourcommunity-ourkids.org/event/foster-care-and-adoption-101-information-meeting-172/
LOCATION:TX
END:VEVENT
BEGIN:VEVENT
DTSTART;TZID=America/Chicago:20250520T183000
DTEND;TZID=America/Chicago:20250520T193000
DTSTAMP:20260425T105152
CREATED:20250325T150813Z
LAST-MODIFIED:20250325T150813Z
UID:17324-1747765800-1747769400@ourcommunity-ourkids.org
SUMMARY:Foster Care and Adoption 101 Information Meeting
DESCRIPTION:Come learn about our community’s Foster Care and Adoption needs and how you can be a part of changing a child’s life! A general overview of the foster care and adoption process will be presented as well as basic requirements that apply to all agencies. \n\n\n\nClick here to register \nThis meeting will be held virtually via Zoom.
URL:https://ourcommunity-ourkids.org/event/foster-care-and-adoption-101-information-meeting-171/
LOCATION:TX
END:VEVENT
BEGIN:VEVENT
DTSTART;TZID=America/Chicago:20250505T183000
DTEND;TZID=America/Chicago:20250505T200000
DTSTAMP:20260425T105152
CREATED:20250325T151250Z
LAST-MODIFIED:20250325T151250Z
UID:17328-1746469800-1746475200@ourcommunity-ourkids.org
SUMMARY:In-Person Foster Care and Adoption 101 Information Meeting
DESCRIPTION:Join CK Family Services for an informational session about the foster care and adoption system your community. Learn more about what it takes and next steps to get involved! \nThis will be held at CK Family Services – Arlington (320 Westway Pl\, #530 Arlington\, TX 76018) at 6:30pm on 5/5/2025. \nRegister here: https://docs.google.com/forms/d/e/1FAIpQLSeeu_WuxT_n4QGz-fByhyavbTC6b-vbujGm_0WQNpRGldfGhA/viewform
URL:https://ourcommunity-ourkids.org/event/in-person-foster-care-and-adoption-101-information-meeting-3/
LOCATION:CK Child and Family Services\, 320 Westway Pl Ste 530\, Arlington\, TX\, 76018\, United States
END:VEVENT
BEGIN:VEVENT
DTSTART;TZID=America/Chicago:20250429T183000
DTEND;TZID=America/Chicago:20250429T193000
DTSTAMP:20260425T105152
CREATED:20250310T144825Z
LAST-MODIFIED:20250310T144825Z
UID:17255-1745951400-1745955000@ourcommunity-ourkids.org
SUMMARY:Foster Care and Adoption 101 Information Meeting
DESCRIPTION:Come learn about our community’s Foster Care and Adoption needs and how you can be a part of changing a child’s life! A general overview of the foster care and adoption process will be presented as well as basic requirements that apply to all agencies. \n\n\n\nClick here to register \nThis meeting will be held virtually via Zoom.
URL:https://ourcommunity-ourkids.org/event/foster-care-and-adoption-101-information-meeting-170/
LOCATION:TX
END:VEVENT
BEGIN:VEVENT
DTSTART;TZID=America/Chicago:20250407T183000
DTEND;TZID=America/Chicago:20250407T193000
DTSTAMP:20260425T105152
CREATED:20250310T144713Z
LAST-MODIFIED:20250310T144713Z
UID:17253-1744050600-1744054200@ourcommunity-ourkids.org
SUMMARY:Foster Care and Adoption 101 Information Meeting
DESCRIPTION:Come learn about our community’s Foster Care and Adoption needs and how you can be a part of changing a child’s life! A general overview of the foster care and adoption process will be presented as well as basic requirements that apply to all agencies. \n\n\n\nClick here to register \nThis meeting will be held virtually via Zoom.
URL:https://ourcommunity-ourkids.org/event/foster-care-and-adoption-101-information-meeting-169/
LOCATION:TX
END:VEVENT
BEGIN:VEVENT
DTSTART;TZID=America/Chicago:20250405T103000
DTEND;TZID=America/Chicago:20250405T120000
DTSTAMP:20260425T105152
CREATED:20250310T144319Z
LAST-MODIFIED:20250310T144319Z
UID:17249-1743849000-1743854400@ourcommunity-ourkids.org
SUMMARY:Heart Gallery of North Texas Foster Care and Adoption 101 Information Meeting
DESCRIPTION:Join the Heart Gallery of North Texas for a free in-person Foster Care and Adoption Information Meeting! \nRSVP at https://forms.office.com/r/hui2YtHJ6c
URL:https://ourcommunity-ourkids.org/event/heart-gallery-of-north-texas-foster-care-and-adoption-101-information-meeting/
LOCATION:Emily Fowler Central Library\, 502 Oakland St.\, Denton\, TX\, 76201\, United States
END:VEVENT
BEGIN:VEVENT
DTSTART;TZID=America/Chicago:20250404T120000
DTEND;TZID=America/Chicago:20250404T130000
DTSTAMP:20260425T105152
CREATED:20250310T143859Z
LAST-MODIFIED:20250310T143859Z
UID:17246-1743768000-1743771600@ourcommunity-ourkids.org
SUMMARY:Foster Care and Adoption 101 Information Meeting
DESCRIPTION:Come learn about our community’s Foster Care and Adoption needs and how you can be a part of changing a child’s life! A general overview of the foster care and adoption process will be presented as well as basic requirements that apply to all agencies. \n\n\n\nClick here to register \nThis meeting will be held virtually via Zoom.
URL:https://ourcommunity-ourkids.org/event/foster-care-and-adoption-101-information-meeting-168/
LOCATION:TX
END:VEVENT
BEGIN:VEVENT
DTSTART;TZID=America/Chicago:20250325T183000
DTEND;TZID=America/Chicago:20250325T193000
DTSTAMP:20260425T105152
CREATED:20250117T164351Z
LAST-MODIFIED:20250117T164351Z
UID:16571-1742927400-1742931000@ourcommunity-ourkids.org
SUMMARY:Foster Care and Adoption 101 Information Meeting
DESCRIPTION:Come learn about our community’s Foster Care and Adoption needs and how you can be a part of changing a child’s life! A general overview of the foster care and adoption process will be presented as well as basic requirements that apply to all agencies. \n\n\n\nClick here to register \nThis meeting will be held virtually via Zoom.
URL:https://ourcommunity-ourkids.org/event/foster-care-and-adoption-101-information-meeting-167/
LOCATION:TX
END:VEVENT
BEGIN:VEVENT
DTSTART;TZID=America/Chicago:20250314T120000
DTEND;TZID=America/Chicago:20250314T130000
DTSTAMP:20260425T105152
CREATED:20250117T164254Z
LAST-MODIFIED:20250117T164254Z
UID:16569-1741953600-1741957200@ourcommunity-ourkids.org
SUMMARY:Foster Care and Adoption 101 Information Meeting
DESCRIPTION:Come learn about our community’s Foster Care and Adoption needs and how you can be a part of changing a child’s life! A general overview of the foster care and adoption process will be presented as well as basic requirements that apply to all agencies. \n\n\n\nClick here to register \nThis meeting will be held virtually via Zoom.
URL:https://ourcommunity-ourkids.org/event/foster-care-and-adoption-101-information-meeting-166/
LOCATION:TX
END:VEVENT
BEGIN:VEVENT
DTSTART;TZID=America/Chicago:20250303T183000
DTEND;TZID=America/Chicago:20250303T193000
DTSTAMP:20260425T105152
CREATED:20250117T164207Z
LAST-MODIFIED:20250117T164207Z
UID:16567-1741026600-1741030200@ourcommunity-ourkids.org
SUMMARY:Foster Care and Adoption 101 Information Meeting
DESCRIPTION:Come learn about our community’s Foster Care and Adoption needs and how you can be a part of changing a child’s life! A general overview of the foster care and adoption process will be presented as well as basic requirements that apply to all agencies. \n\n\n\nClick here to register \nThis meeting will be held virtually via Zoom.
URL:https://ourcommunity-ourkids.org/event/foster-care-and-adoption-101-information-meeting-165/
LOCATION:TX
END:VEVENT
BEGIN:VEVENT
DTSTART;TZID=America/Chicago:20250222T103000
DTEND;TZID=America/Chicago:20250222T120000
DTSTAMP:20260425T105152
CREATED:20250106T173540Z
LAST-MODIFIED:20250106T173540Z
UID:16100-1740220200-1740225600@ourcommunity-ourkids.org
SUMMARY:In-Person 101 Information Meeting – Heart Gallery of North Texas
DESCRIPTION:Join the Heart Gallery of North Texas for an in-person foster care and adoption 101 meeting! \n\nRegister here: https://forms.office.com/r/hui2YtHJ6c \n 
URL:https://ourcommunity-ourkids.org/event/in-person-101-information-meeting-heart-gallery-of-north-texas-2/
LOCATION:Hood County YMCA\, 1475 James Rd.\, Granbury\, TX\, 76049\, United States
END:VEVENT
BEGIN:VEVENT
DTSTART;TZID=America/Chicago:20250218T183000
DTEND;TZID=America/Chicago:20250218T193000
DTSTAMP:20260425T105152
CREATED:20250117T164028Z
LAST-MODIFIED:20250117T164028Z
UID:16565-1739903400-1739907000@ourcommunity-ourkids.org
SUMMARY:Foster Care and Adoption 101 Information Meeting
DESCRIPTION:Come learn about our community’s Foster Care and Adoption needs and how you can be a part of changing a child’s life! A general overview of the foster care and adoption process will be presented as well as basic requirements that apply to all agencies. \n\n\n\nClick here to register \nThis meeting will be held virtually via Zoom.
URL:https://ourcommunity-ourkids.org/event/foster-care-and-adoption-101-information-meeting-164/
LOCATION:TX
END:VEVENT
BEGIN:VEVENT
DTSTART;TZID=America/Chicago:20250207T120000
DTEND;TZID=America/Chicago:20250207T130000
DTSTAMP:20260425T105152
CREATED:20250117T163924Z
LAST-MODIFIED:20250117T163924Z
UID:16562-1738929600-1738933200@ourcommunity-ourkids.org
SUMMARY:Foster Care and Adoption 101 Information Meeting
DESCRIPTION:Come learn about our community’s Foster Care and Adoption needs and how you can be a part of changing a child’s life! A general overview of the foster care and adoption process will be presented as well as basic requirements that apply to all agencies. \n\n\n\nClick here to register \nThis meeting will be held virtually via Zoom.
URL:https://ourcommunity-ourkids.org/event/foster-care-and-adoption-101-information-meeting-163/
LOCATION:TX
END:VEVENT
BEGIN:VEVENT
DTSTART;TZID=America/Chicago:20250128T183000
DTEND;TZID=America/Chicago:20250128T193000
DTSTAMP:20260425T105152
CREATED:20241120T194945Z
LAST-MODIFIED:20241120T194945Z
UID:15974-1738089000-1738092600@ourcommunity-ourkids.org
SUMMARY:Foster Care and Adoption 101 Information Meeting
DESCRIPTION:Come learn about our community’s Foster Care and Adoption needs and how you can be a part of changing a child’s life! A general overview of the foster care and adoption process will be presented as well as basic requirements that apply to all agencies. \nClick here to register \nThis meeting will be held virtually via Zoom.
URL:https://ourcommunity-ourkids.org/event/foster-care-and-adoption-101-information-meeting-162/
LOCATION:TX
END:VEVENT
BEGIN:VEVENT
DTSTART;TZID=America/Chicago:20250125T100000
DTEND;TZID=America/Chicago:20250125T233000
DTSTAMP:20260425T105152
CREATED:20250106T173251Z
LAST-MODIFIED:20250106T173251Z
UID:16097-1737799200-1737847800@ourcommunity-ourkids.org
SUMMARY:In-Person 101 Information Meeting - Heart Gallery of North Texas
DESCRIPTION:Join the Heart Gallery of North Texas for an in-person foster care and adoption 101 meeting! \n\nRegister here: https://forms.office.com/r/hui2YtHJ6c \n 
URL:https://ourcommunity-ourkids.org/event/in-person-101-information-meeting-heart-gallery-of-north-texas/
LOCATION:The Ryan Family YMCA\, 8250 McCart Ave\, Fort Worth\, TX\, 76123\, United States
END:VEVENT
BEGIN:VEVENT
DTSTART;TZID=America/Chicago:20250116T183000
DTEND;TZID=America/Chicago:20250116T193000
DTSTAMP:20260425T105152
CREATED:20241120T194829Z
LAST-MODIFIED:20241120T194829Z
UID:15971-1737052200-1737055800@ourcommunity-ourkids.org
SUMMARY:Foster Care and Adoption 101 Information Meeting
DESCRIPTION:Come learn about our community’s Foster Care and Adoption needs and how you can be a part of changing a child’s life! A general overview of the foster care and adoption process will be presented as well as basic requirements that apply to all agencies. \nClick here to register \nThis meeting will be held virtually via Zoom.
URL:https://ourcommunity-ourkids.org/event/foster-care-and-adoption-101-information-meeting-161/
LOCATION:TX
END:VEVENT
BEGIN:VEVENT
DTSTART;TZID=America/Chicago:20250102T120000
DTEND;TZID=America/Chicago:20250102T130000
DTSTAMP:20260425T105152
CREATED:20241120T194542Z
LAST-MODIFIED:20241120T194542Z
UID:15968-1735819200-1735822800@ourcommunity-ourkids.org
SUMMARY:Foster Care and Adoption 101 Information Meeting
DESCRIPTION:Come learn about our community’s Foster Care and Adoption needs and how you can be a part of changing a child’s life! A general overview of the foster care and adoption process will be presented as well as basic requirements that apply to all agencies. \nClick here to register \nThis meeting will be held virtually via Zoom.
URL:https://ourcommunity-ourkids.org/event/foster-care-and-adoption-101-information-meeting-160/
LOCATION:TX
END:VEVENT
BEGIN:VEVENT
DTSTART;TZID=America/Chicago:20241213T120000
DTEND;TZID=America/Chicago:20241213T130000
DTSTAMP:20260425T105152
CREATED:20241114T162842Z
LAST-MODIFIED:20241114T162842Z
UID:15964-1734091200-1734094800@ourcommunity-ourkids.org
SUMMARY:Foster Care and Adoption 101 Information Meeting
DESCRIPTION:Come learn about our community’s Foster Care and Adoption needs and how you can be a part of changing a child’s life! A general overview of the foster care and adoption process will be presented as well as basic requirements that apply to all agencies. \nClick here to register \nThis meeting will be held virtually via Zoom.
URL:https://ourcommunity-ourkids.org/event/foster-care-and-adoption-101-information-meeting-159/
LOCATION:TX
END:VEVENT
BEGIN:VEVENT
DTSTART;TZID=America/Chicago:20241203T183000
DTEND;TZID=America/Chicago:20241203T193000
DTSTAMP:20260425T105152
CREATED:20241114T162802Z
LAST-MODIFIED:20241114T162802Z
UID:15962-1733250600-1733254200@ourcommunity-ourkids.org
SUMMARY:Foster Care and Adoption 101 Information Meeting
DESCRIPTION:Come learn about our community’s Foster Care and Adoption needs and how you can be a part of changing a child’s life! A general overview of the foster care and adoption process will be presented as well as basic requirements that apply to all agencies. \nClick here to register \nThis meeting will be held virtually via Zoom.
URL:https://ourcommunity-ourkids.org/event/foster-care-and-adoption-101-information-meeting-158/
LOCATION:TX
END:VEVENT
BEGIN:VEVENT
DTSTART;TZID=America/Chicago:20241119T183000
DTEND;TZID=America/Chicago:20241119T193000
DTSTAMP:20260425T105152
CREATED:20241021T204558Z
LAST-MODIFIED:20241021T204558Z
UID:15791-1732041000-1732044600@ourcommunity-ourkids.org
SUMMARY:Foster Care and Adoption 101 Information Meeting
DESCRIPTION:Come learn about our community’s Foster Care and Adoption needs and how you can be a part of changing a child’s life! A general overview of the foster care and adoption process will be presented as well as basic requirements that apply to all agencies. \nClick here to register \nThis meeting will be held virtually via Zoom.
URL:https://ourcommunity-ourkids.org/event/foster-care-and-adoption-101-information-meeting-157/
LOCATION:TX
END:VEVENT
BEGIN:VEVENT
DTSTART;TZID=America/Chicago:20241107T183000
DTEND;TZID=America/Chicago:20241107T193000
DTSTAMP:20260425T105152
CREATED:20241021T204431Z
LAST-MODIFIED:20241021T204431Z
UID:15788-1731004200-1731007800@ourcommunity-ourkids.org
SUMMARY:Foster Care and Adoption 101 Information Meeting
DESCRIPTION:Come learn about our community’s Foster Care and Adoption needs and how you can be a part of changing a child’s life! A general overview of the foster care and adoption process will be presented as well as basic requirements that apply to all agencies. \nClick here to register \nThis meeting will be held virtually via Zoom.
URL:https://ourcommunity-ourkids.org/event/foster-care-and-adoption-101-information-meeting-156/
LOCATION:TX
END:VEVENT
BEGIN:VEVENT
DTSTART;TZID=America/Chicago:20241028T183000
DTEND;TZID=America/Chicago:20241028T193000
DTSTAMP:20260425T105152
CREATED:20240930T152840Z
LAST-MODIFIED:20240930T152840Z
UID:15721-1730140200-1730143800@ourcommunity-ourkids.org
SUMMARY:Foster Care and Adoption 101 Information Meeting
DESCRIPTION:Come learn about our community’s Foster Care and Adoption needs and how you can be a part of changing a child’s life! A general overview of the foster care and adoption process will be presented as well as basic requirements that apply to all agencies. \nClick here to register \nThis meeting will be held virtually via Zoom.
URL:https://ourcommunity-ourkids.org/event/foster-care-and-adoption-101-information-meeting-155/
LOCATION:TX
END:VEVENT
BEGIN:VEVENT
DTSTART;TZID=America/Chicago:20241019T103000
DTEND;TZID=America/Chicago:20241019T123000
DTSTAMP:20260425T105152
CREATED:20240812T204803Z
LAST-MODIFIED:20240812T204803Z
UID:15604-1729333800-1729341000@ourcommunity-ourkids.org
SUMMARY:In-Person Foster Care and Adoption 101 Information Meeting
DESCRIPTION:Join the Heart Gallery of North Texas to learn about becoming a Foster and/or Adoptive Family! \nRSVP: https://www.facebook.com/share/Up2Xyd52Zf9ogLH3 
URL:https://ourcommunity-ourkids.org/event/in-person-foster-care-and-adoption-101-information-meeting-2/
LOCATION:Amon G. Carter\, Jr. Downtown YMCA\, 512 Lamar St.\, Fort Worth\, TX\, 76102\, United States
END:VEVENT
BEGIN:VEVENT
DTSTART;TZID=America/Chicago:20241016T183000
DTEND;TZID=America/Chicago:20241016T193000
DTSTAMP:20260425T105152
CREATED:20240930T152756Z
LAST-MODIFIED:20240930T152756Z
UID:15719-1729103400-1729107000@ourcommunity-ourkids.org
SUMMARY:Foster Care and Adoption 101 Information Meeting
DESCRIPTION:Come learn about our community’s Foster Care and Adoption needs and how you can be a part of changing a child’s life! A general overview of the foster care and adoption process will be presented as well as basic requirements that apply to all agencies. \nClick here to register \nThis meeting will be held virtually via Zoom.
URL:https://ourcommunity-ourkids.org/event/foster-care-and-adoption-101-information-meeting-154/
LOCATION:TX
END:VEVENT
BEGIN:VEVENT
DTSTART;TZID=America/Chicago:20241004T120000
DTEND;TZID=America/Chicago:20241004T130000
DTSTAMP:20260425T105152
CREATED:20240930T152656Z
LAST-MODIFIED:20240930T152656Z
UID:15717-1728043200-1728046800@ourcommunity-ourkids.org
SUMMARY:Foster Care and Adoption 101 Information Meeting
DESCRIPTION:Come learn about our community’s Foster Care and Adoption needs and how you can be a part of changing a child’s life! A general overview of the foster care and adoption process will be presented as well as basic requirements that apply to all agencies. \nClick here to register \nThis meeting will be held virtually via Zoom.
URL:https://ourcommunity-ourkids.org/event/foster-care-and-adoption-101-information-meeting-153/
LOCATION:TX
END:VEVENT
END:VCALENDAR